BEGIN:VCALENDAR
VERSION:2.0
PRODID:-//Refined and Empowered Outreach - ECPv6.15.20//NONSGML v1.0//EN
CALSCALE:GREGORIAN
METHOD:PUBLISH
X-WR-CALNAME:Refined and Empowered Outreach
X-ORIGINAL-URL:https://refinedandempowered.org
X-WR-CALDESC:Events for Refined and Empowered Outreach
REFRESH-INTERVAL;VALUE=DURATION:PT1H
X-Robots-Tag:noindex
X-PUBLISHED-TTL:PT1H
BEGIN:VTIMEZONE
TZID:UTC
BEGIN:STANDARD
TZOFFSETFROM:+0000
TZOFFSETTO:+0000
TZNAME:UTC
DTSTART:20230101T000000
END:STANDARD
END:VTIMEZONE
BEGIN:VEVENT
DTSTART;TZID=UTC:20240316T231500
DTEND;TZID=UTC:20240316T231500
DTSTAMP:20260424T125308
CREATED:20240728T201136Z
LAST-MODIFIED:20250815T210823Z
UID:25361-1710630900-1710630900@refinedandempowered.org
SUMMARY:UNITY OUTREACH BRUNCH
DESCRIPTION:
URL:https://refinedandempowered.org/event/unity-outreach-brunch/
CATEGORIES:2024
ATTACH;FMTTYPE=image/jpeg:https://refinedandempowered.org/wp-content/uploads/2024/07/a2e14918-2130-4811-91cb-d09f1fdfa8bb.jpg
END:VEVENT
END:VCALENDAR