BEGIN:VCALENDAR
VERSION:2.0
PRODID:-//Refined and Empowered Outreach - ECPv6.15.20//NONSGML v1.0//EN
CALSCALE:GREGORIAN
METHOD:PUBLISH
X-WR-CALNAME:Refined and Empowered Outreach
X-ORIGINAL-URL:https://refinedandempowered.org
X-WR-CALDESC:Events for Refined and Empowered Outreach
REFRESH-INTERVAL;VALUE=DURATION:PT1H
X-Robots-Tag:noindex
X-PUBLISHED-TTL:PT1H
BEGIN:VTIMEZONE
TZID:UTC
BEGIN:STANDARD
TZOFFSETFROM:+0000
TZOFFSETTO:+0000
TZNAME:UTC
DTSTART:20210101T000000
END:STANDARD
END:VTIMEZONE
BEGIN:VEVENT
DTSTART;TZID=UTC:20221022T211500
DTEND;TZID=UTC:20221022T211500
DTSTAMP:20260425T180218
CREATED:20240728T161707Z
LAST-MODIFIED:20250815T200654Z
UID:24969-1666473300-1666473300@refinedandempowered.org
SUMMARY:OCTOBER BREAST CANCER AWARENESS BRUNCH
DESCRIPTION:
URL:https://refinedandempowered.org/event/october-breast-cancer-awareness-brunch/
CATEGORIES:2022
ATTACH;FMTTYPE=image/jpeg:https://refinedandempowered.org/wp-content/uploads/2024/07/IMG-8477.jpg
END:VEVENT
END:VCALENDAR