BEGIN:VCALENDAR
VERSION:2.0
PRODID:-//Refined and Empowered Outreach - ECPv6.15.20//NONSGML v1.0//EN
CALSCALE:GREGORIAN
METHOD:PUBLISH
X-WR-CALNAME:Refined and Empowered Outreach
X-ORIGINAL-URL:https://refinedandempowered.org
X-WR-CALDESC:Events for Refined and Empowered Outreach
REFRESH-INTERVAL;VALUE=DURATION:PT1H
X-Robots-Tag:noindex
X-PUBLISHED-TTL:PT1H
BEGIN:VTIMEZONE
TZID:UTC
BEGIN:STANDARD
TZOFFSETFROM:+0000
TZOFFSETTO:+0000
TZNAME:UTC
DTSTART:20180101T000000
END:STANDARD
END:VTIMEZONE
BEGIN:VEVENT
DTSTART;TZID=UTC:20190413T190000
DTEND;TZID=UTC:20190413T220000
DTSTAMP:20260423T213433
CREATED:20240728T181914Z
LAST-MODIFIED:20250815T183111Z
UID:25216-1555182000-1555192800@refinedandempowered.org
SUMMARY:LADIES NIGHT KARAOKE NIGHT
DESCRIPTION:
URL:https://refinedandempowered.org/event/ladies-night-karaoke-night/
CATEGORIES:2019
ATTACH;FMTTYPE=image/jpeg:https://refinedandempowered.org/wp-content/uploads/2024/07/IMG-1532-630x630-1.jpg
END:VEVENT
END:VCALENDAR