BEGIN:VCALENDAR
VERSION:2.0
PRODID:-//Refined and Empowered Outreach - ECPv6.15.20//NONSGML v1.0//EN
CALSCALE:GREGORIAN
METHOD:PUBLISH
X-WR-CALNAME:Refined and Empowered Outreach
X-ORIGINAL-URL:https://refinedandempowered.org
X-WR-CALDESC:Events for Refined and Empowered Outreach
REFRESH-INTERVAL;VALUE=DURATION:PT1H
X-Robots-Tag:noindex
X-PUBLISHED-TTL:PT1H
BEGIN:VTIMEZONE
TZID:UTC
BEGIN:STANDARD
TZOFFSETFROM:+0000
TZOFFSETTO:+0000
TZNAME:UTC
DTSTART:20230101T000000
END:STANDARD
END:VTIMEZONE
BEGIN:VEVENT
DTSTART;TZID=UTC:20240618T193000
DTEND;TZID=UTC:20240618T211500
DTSTAMP:20260425T120805
CREATED:20240728T195138Z
LAST-MODIFIED:20250815T191323Z
UID:25355-1718739000-1718745300@refinedandempowered.org
SUMMARY:FINANCIAL EMPOWERMENT SESSION
DESCRIPTION:
URL:https://refinedandempowered.org/event/financial-empowerment-session/
CATEGORIES:2024
ATTACH;FMTTYPE=image/png:https://refinedandempowered.org/wp-content/uploads/2024/07/Image_20240614_114004.png
END:VEVENT
BEGIN:VEVENT
DTSTART;TZID=UTC:20250316T180000
DTEND;TZID=UTC:20250316T220000
DTSTAMP:20260425T120805
CREATED:20250520T161715Z
LAST-MODIFIED:20250815T204133Z
UID:26371-1742148000-1742162400@refinedandempowered.org
SUMMARY:2025 MARCH BRUNCH
DESCRIPTION:
URL:https://refinedandempowered.org/event/2025-march-brunch/
CATEGORIES:2024
ATTACH;FMTTYPE=image/jpeg:https://refinedandempowered.org/wp-content/uploads/2024/07/2AE15D6F-9F81-453D-889A-C27D9D90DBA8-1.jpg
END:VEVENT
BEGIN:VEVENT
DTSTART;TZID=UTC:20250904T080000
DTEND;TZID=UTC:20250904T170000
DTSTAMP:20260425T120805
CREATED:20250904T181937Z
LAST-MODIFIED:20250904T214207Z
UID:26508-1756972800-1757005200@refinedandempowered.org
SUMMARY:BACK TO SCHOOL 2025
DESCRIPTION:
URL:https://refinedandempowered.org/event/back-to-school-2025/
CATEGORIES:2025
END:VEVENT
BEGIN:VEVENT
DTSTART;TZID=UTC:20250904T080000
DTEND;TZID=UTC:20250904T170000
DTSTAMP:20260425T120805
CREATED:20250904T191744Z
LAST-MODIFIED:20250904T193740Z
UID:26536-1756972800-1757005200@refinedandempowered.org
SUMMARY:COLOR THEORY & INTERACTIVE HANDS-ON WITH LICENSE COSMETOLOGY INSTRUCTORS
DESCRIPTION:
URL:https://refinedandempowered.org/event/color-theory-interactive-hands-on-with-license-cosmetology-instructors/
CATEGORIES:2025
END:VEVENT
BEGIN:VEVENT
DTSTART;TZID=UTC:20251110T080000
DTEND;TZID=UTC:20251110T170000
DTSTAMP:20260425T120805
CREATED:20251110T142315Z
LAST-MODIFIED:20251110T142315Z
UID:26626-1762761600-1762794000@refinedandempowered.org
SUMMARY:HOMELESS OUTREACH NEWARK NJ
DESCRIPTION:
URL:https://refinedandempowered.org/event/homeless-outreach-newark-nj/
CATEGORIES:2025
END:VEVENT
BEGIN:VEVENT
DTSTART;TZID=UTC:20260120T080000
DTEND;TZID=UTC:20260120T170000
DTSTAMP:20260425T120805
CREATED:20251222T143554Z
LAST-MODIFIED:20251222T160327Z
UID:26665-1768896000-1768928400@refinedandempowered.org
SUMMARY:EMPOWERMENT SESSIONS WITH RACHELLE ROSS
DESCRIPTION:
URL:https://refinedandempowered.org/event/empowerment-sessions-with-rachelle-ross/
CATEGORIES:2026
END:VEVENT
BEGIN:VEVENT
DTSTART;TZID=UTC:20260328T113000
DTEND;TZID=UTC:20260328T153000
DTSTAMP:20260425T120805
CREATED:20251222T163707Z
LAST-MODIFIED:20251222T163707Z
UID:26696-1774697400-1774711800@refinedandempowered.org
SUMMARY:6th ANNUAL OUTREACH BRUNCH HONORING COMMUNITY LEADERS
DESCRIPTION:
URL:https://refinedandempowered.org/event/6th-annual-outreach-brunch-honoring-community-leaders-3/
CATEGORIES:2026
END:VEVENT
END:VCALENDAR