BEGIN:VCALENDAR
VERSION:2.0
PRODID:-//Refined and Empowered Outreach - ECPv6.15.20//NONSGML v1.0//EN
CALSCALE:GREGORIAN
METHOD:PUBLISH
X-WR-CALNAME:Refined and Empowered Outreach
X-ORIGINAL-URL:https://refinedandempowered.org
X-WR-CALDESC:Events for Refined and Empowered Outreach
REFRESH-INTERVAL;VALUE=DURATION:PT1H
X-Robots-Tag:noindex
X-PUBLISHED-TTL:PT1H
BEGIN:VTIMEZONE
TZID:UTC
BEGIN:STANDARD
TZOFFSETFROM:+0000
TZOFFSETTO:+0000
TZNAME:UTC
DTSTART:20210101T000000
END:STANDARD
END:VTIMEZONE
BEGIN:VEVENT
DTSTART;TZID=UTC:20220603T170000
DTEND;TZID=UTC:20220603T200000
DTSTAMP:20260426T010248
CREATED:20240728T123405Z
LAST-MODIFIED:20250815T202849Z
UID:24891-1654275600-1654286400@refinedandempowered.org
SUMMARY:MARRIAGE GOALS
DESCRIPTION:
URL:https://refinedandempowered.org/event/marriage-goals/
CATEGORIES:2022
ATTACH;FMTTYPE=image/jpeg:https://refinedandempowered.org/wp-content/uploads/2024/07/IMG-4286-630x630-1.jpg
END:VEVENT
END:VCALENDAR